Workbook

Sheet Plan der service
F1: autogenerated by Shift Plan 1.6.6
F2: Plan de service pour Novembre 2026
F4: JBS | G4: JBR | H4: TFE | I4: JNM | J4: LCO | K4: DAS | L4: BBE | M4: ACN | N4: GCL | O4: KEGL | P4: DKS | Q4: MKR | R4: FLZ | S4: LMS | T4: EMS | U4: XPO | V4: AFH | W4: NGS | X4: CLKN | Y4: LSK
A6: f | C6: =data!B1 -> 01.11.2026 | D6: =LOOKUP(WEEKDAY(C6),data!$A$3:$A$9,data!$B$3:$B$9) -> dim | F6: - | G6: - | H6: - | I6: - | J6: - | K6: D2 | L6: - | M6: D1 | N6: N | O6: - | P6: - | Q6: NO | R6: - | S6: - | T6: - | U6: - | V6: - | W6: MO+ | X6: AO+ | Y6: - | Z6: =C6 -> 01.11.2026 | AA6: =LOOKUP(WEEKDAY(Z6),data!$A$3:$A$9,data!$B$3:$B$9) -> dim
A7: w | C7: =C6+1 -> 46328 | D7: =LOOKUP(WEEKDAY(C7),data!$A$3:$A$9,data!$B$3:$B$9) -> lun | F7: - | G7: M+ | H7: C | I7: JP | J7: MO+s | K7: A+ | L7: C | M7: - | N7: N | O7: - | P7: L | Q7: - | R7: - | S7: JP | T7: C | U7: C | V7: JK | W7: AO+ | X7: NO | Y7: MO+ | Z7: =C7 -> 46328 | AA7: =LOOKUP(WEEKDAY(Z7),data!$A$3:$A$9,data!$B$3:$B$9) -> lun
A8: w | C8: =C7+1 -> 46329 | D8: =LOOKUP(WEEKDAY(C8),data!$A$3:$A$9,data!$B$3:$B$9) -> mar | F8: - | G8: AO+ | H8: C | I8: STBY | J8: MO+s | K8: - | L8: C | M8: - | N8: N | O8: JP | P8: M+ | Q8: - | R8: L | S8: A+ | T8: C | U8: C | V8: JK | W8: - | X8: NO | Y8: MO+ | Z8: =C8 -> 46329 | AA8: =LOOKUP(WEEKDAY(Z8),data!$A$3:$A$9,data!$B$3:$B$9) -> mar
A9: w | C9: =C8+1 -> 46330 | D9: =LOOKUP(WEEKDAY(C9),data!$A$3:$A$9,data!$B$3:$B$9) -> mer | F9: - | G9: STBY | H9: C | I9: - | J9: JPs | K9: JP | L9: C | M9: Plan | N9: - | O9: M+ | P9: L | Q9: - | R9: A+ | S9: - | T9: N | U9: C | V9: JK | W9: MO+ | X9: NO | Y9: AO+ | Z9: =C9 -> 46330 | AA9: =LOOKUP(WEEKDAY(Z9),data!$A$3:$A$9,data!$B$3:$B$9) -> mer
A10: w | C10: =C9+1 -> 46331 | D10: =LOOKUP(WEEKDAY(C10),data!$A$3:$A$9,data!$B$3:$B$9) -> jeu | F10: - | G10: - | H10: C | I10: M+ | J10: AO+s | K10: MO+ | L10: C | M10: - | N10: - | O10: STBY | P10: A+ | Q10: - | R10: - | S10: L | T10: N | U10: C | V10: JK | W10: AO+ | X10: - | Y10: NO | Z10: =C10 -> 46331 | AA10: =LOOKUP(WEEKDAY(Z10),data!$A$3:$A$9,data!$B$3:$B$9) -> jeu
A11: w | C11: =C10+1 -> 46332 | D11: =LOOKUP(WEEKDAY(C11),data!$A$3:$A$9,data!$B$3:$B$9) -> ven | F11: - | G11: MO+ | H11: C | I11: C | J11: AO+s | K11: A+ | L11: C | M11: - | N11: JP | O11: - | P11: - | Q11: C | R11: L | S11: M+ | T11: N | U11: C | V11: JK | W11: AO+ | X11: - | Y11: NO | Z11: =C11 -> 46332 | AA11: =LOOKUP(WEEKDAY(Z11),data!$A$3:$A$9,data!$B$3:$B$9) -> ven
A12: sa | C12: =C11+1 -> 46333 | D12: =LOOKUP(WEEKDAY(C12),data!$A$3:$A$9,data!$B$3:$B$9) -> sam | F12: - | G12: A+ | H12: - | I12: - | J12: - | K12: - | L12: - | M12: - | N12: - | O12: L | P12: AO+ | Q12: - | R12: M+ | S12: - | T12: N | U12: - | V12: - | W12: - | X12: MO+ | Y12: NO | Z12: =C12 -> 46333 | AA12: =LOOKUP(WEEKDAY(Z12),data!$A$3:$A$9,data!$B$3:$B$9) -> sam
A13: su | C13: =C12+1 -> 46334 | D13: =LOOKUP(WEEKDAY(C13),data!$A$3:$A$9,data!$B$3:$B$9) -> dim | F13: - | G13: N | H13: - | I13: - | J13: - | K13: NO | L13: - | M13: - | N13: - | O13: D2 | P13: AO+ | Q13: - | R13: D1 | S13: - | T13: - | U13: - | V13: - | W13: - | X13: MO+ | Y13: - | Z13: =C13 -> 46334 | AA13: =LOOKUP(WEEKDAY(Z13),data!$A$3:$A$9,data!$B$3:$B$9) -> dim
A14: w | C14: =C13+1 -> 46335 | D14: =LOOKUP(WEEKDAY(C14),data!$A$3:$A$9,data!$B$3:$B$9) -> lun | F14: - | G14: N | H14: JS | I14: JS | J14: JSs | K14: NO | L14: L | M14: A+ | N14: M+ | O14: - | P14: JS | Q14: C | R14: JS | S14: JP | T14: - | U14: JP | V14: JK | W14: MO+ | X14: AO+ | Y14: - | Z14: =C14 -> 46335 | AA14: =LOOKUP(WEEKDAY(Z14),data!$A$3:$A$9,data!$B$3:$B$9) -> lun
A15: w | C15: =C14+1 -> 46336 | D15: =LOOKUP(WEEKDAY(C15),data!$A$3:$A$9,data!$B$3:$B$9) -> mar | F15: - | G15: N | H15: JS | I15: JS | J15: JSs | K15: NO | L15: - | M15: - | N15: JP | O15: - | P15: JS | Q15: C | R15: JS | S15: M+ | T15: L | U15: A+ | V15: JK | W15: MO+ | X15: AO+ | Y15: - | Z15: =C15 -> 46336 | AA15: =LOOKUP(WEEKDAY(Z15),data!$A$3:$A$9,data!$B$3:$B$9) -> mar
A16: w | C16: =C15+1 -> 46337 | D16: =LOOKUP(WEEKDAY(C16),data!$A$3:$A$9,data!$B$3:$B$9) -> mer | F16: - | G16: - | H16: JS | I16: JS | J16: JSs | K16: - | L16: - | M16: - | N16: M+ | O16: N | P16: JS | Q16: C | R16: JS | S16: L | T16: A+ | U16: JP | V16: MO+ | W16: NO | X16: - | Y16: AO+ | Z16: =C16 -> 46337 | AA16: =LOOKUP(WEEKDAY(Z16),data!$A$3:$A$9,data!$B$3:$B$9) -> mer
A17: w | C17: =C16+1 -> 46338 | D17: =LOOKUP(WEEKDAY(C17),data!$A$3:$A$9,data!$B$3:$B$9) -> jeu | F17: - | G17: - | H17: - | I17: - | J17: JPs | K17: - | L17: JB | M17: JB | N17: A+ | O17: N | P17: - | Q17: C | R17: - | S17: M+ | T17: - | U17: L | V17: JK | W17: NO | X17: MO+ | Y17: AO+ | Z17: =C17 -> 46338 | AA17: =LOOKUP(WEEKDAY(Z17),data!$A$3:$A$9,data!$B$3:$B$9) -> jeu
A18: w | C18: =C17+1 -> 46339 | D18: =LOOKUP(WEEKDAY(C18),data!$A$3:$A$9,data!$B$3:$B$9) -> ven | F18: - | G18: AO+ | H18: JP | I18: L | J18: M+s | K18: JP | L18: JB | M18: JB | N18: A+ | O18: N | P18: JP | Q18: C | R18: - | S18: JP | T18: JP | U18: JP | V18: JK | W18: NO | X18: MO+ | Y18: JP | Z18: =C18 -> 46339 | AA18: =LOOKUP(WEEKDAY(Z18),data!$A$3:$A$9,data!$B$3:$B$9) -> ven
... A35: w | C35: =C34+1 -> 46356 | D35: =LOOKUP(WEEKDAY(C35),data!$A$3:$A$9,data!$B$3:$B$9) -> lun | F35: - | G35: - | H35: M+ | I35: - | J35: JPs | K35: A+ | L35: - | M35: - | N35: JP | O35: - | P35: L | Q35: N | R35: NO | S35: C | T35: - | U35: - | V35: JK | W35: - | X35: AO+ | Y35: MO+ | Z35: =C35 -> 46356 | AA35: =LOOKUP(WEEKDAY(Z35),data!$A$3:$A$9,data!$B$3:$B$9) -> lun

Sheet data
A1: Validity: | B1: 01.11.2026
A2: Agent: | B2: ACN
A3: 1 | B3: dim
A4: 2 | B4: lun
A5: 3 | B5: mar
A6: 4 | B6: mer
A7: 5 | B7: jeu
A8: 6 | B8: ven
A9: 7 | B9: sam
